BEGIN:VCALENDAR
PRODID:Nexudus
VERSION:2.0
BEGIN:VTIMEZONE
TZID:Europe/Paris
X-LIC-LOCATION:Europe/Paris
BEGIN:STANDARD
DTSTART:20241027T030000
RRULE:FREQ=YEARLY;BYDAY=-1SU;BYMONTH=10
TZNAME:CET
TZOFFSETFROM:+0200
TZOFFSETTO:+0100
END:STANDARD
BEGIN:DAYLIGHT
DTSTART:20250330T020000
RRULE:FREQ=YEARLY;BYDAY=-1SU;BYMONTH=3
TZNAME:CEST
TZOFFSETFROM:+0100
TZOFFSETTO:+0200
END:DAYLIGHT
END:VTIMEZONE
BEGIN:VEVENT
DESCRIPTION:11 DE FEBRERO\nVAMOS A CONTAR MENTIRAS\nCÍA. DON LORENZO SANTA
 CRUZ\nAUTOR: ALFONSO PASO\nDIRECCION: FABIAN GARCÍA\nDURACION: 105 MINUTO
 S\n- Una divertida comedia donde Julia\, una mujer que complica la vida a 
 todos con\nsus mentiras\, puede llegar a desesperarse el día de Nochebuen
 a\, cuando la única\nvez que dice verdades\, nadie la cree.\nEvent link: 
 https://teatroavanti.spaces.nexudus.com/en/events/view/293722439/xi-muestr
 a-de-teatro-aficionado---venta-de-localidades-solo-en-taquilla-del-teatro-
 entrada-unica-3-\n
DTEND;TZID=Europe/Paris:20170211T230000
DTSTAMP:20260423T031048Z
DTSTART;TZID=Europe/Paris:20170211T210000
LOCATION:Teatro Avanti
SEQUENCE:0
SUMMARY:XI MUESTRA DE TEATRO AFICIONADO - Venta de localidades solo en taqu
 illa del teatro-Entrada unica 3€
UID:6d3a7a7e-c2a8-431e-9077-1cf6aafa637b
END:VEVENT
END:VCALENDAR
