BEGIN:VCALENDAR
PRODID:Nexudus
VERSION:2.0
BEGIN:VTIMEZONE
TZID:Europe/Paris
X-LIC-LOCATION:Europe/Paris
BEGIN:STANDARD
DTSTART:20241027T030000
RRULE:FREQ=YEARLY;BYDAY=-1SU;BYMONTH=10
TZNAME:CET
TZOFFSETFROM:+0200
TZOFFSETTO:+0100
END:STANDARD
BEGIN:DAYLIGHT
DTSTART:20250330T020000
RRULE:FREQ=YEARLY;BYDAY=-1SU;BYMONTH=3
TZNAME:CEST
TZOFFSETFROM:+0100
TZOFFSETTO:+0200
END:DAYLIGHT
END:VTIMEZONE
BEGIN:VEVENT
DESCRIPTION:Wallada\, la última princesa Andalusí\, es un espectáculo de
  danza\, teatro y poesía\, que cuenta la vida apasionada y rebelde de és
 ta gran mujer. En una época marcada por la gran crisis política del cali
 fato que pondrá fin al esplendor de al- Alandalus.\n\nSolo en un lugar de
  la ciudad de Córdoba\, cobijaba el antiguo espíritu de los Omeyas: el s
 alón literario de la princesa Wallada\, una mujer fascinante y transgreso
 ra\, que recitaba poesía que ella misma componía\, creo un oasis en mita
 d del desierto\, como a ella le gustaba llamarlo. Su historia de amor con 
 el poeta Ibn Zaydun nacerá destinada a habitar en la leyenda...\nEvent li
 nk: https://teatroavanti.spaces.nexudus.com/en/events/view/1415117006/wall
 ada-la-última-princesa-andalusí---ashira-danza-oriental---domingo-26-mar
 zo--19-30-h--todos-los-públicos\n
DTEND;TZID=Europe/Paris:20230326T203000
DTSTAMP:20260421T104313Z
DTSTART;TZID=Europe/Paris:20230326T193000
LOCATION:Teatro Avanti
SEQUENCE:0
SUMMARY:WALLADA LA ÚLTIMA PRINCESA ANDALUSÍ - Ashira Danza Oriental - Dom
 ingo 26 Marzo (19:30 h) Todos los públicos
UID:5cce33e2-dfba-46a8-ac01-6b697d123c09
END:VEVENT
END:VCALENDAR
