BEGIN:VCALENDAR
PRODID:Nexudus
VERSION:2.0
BEGIN:VTIMEZONE
TZID:Europe/Paris
X-LIC-LOCATION:Europe/Paris
BEGIN:STANDARD
DTSTART:20241027T030000
RRULE:FREQ=YEARLY;BYDAY=-1SU;BYMONTH=10
TZNAME:CET
TZOFFSETFROM:+0200
TZOFFSETTO:+0100
END:STANDARD
BEGIN:DAYLIGHT
DTSTART:20250330T020000
RRULE:FREQ=YEARLY;BYDAY=-1SU;BYMONTH=3
TZNAME:CEST
TZOFFSETFROM:+0100
TZOFFSETTO:+0200
END:DAYLIGHT
END:VTIMEZONE
BEGIN:VEVENT
DESCRIPTION:VEOLEO traslada la acción a una Biblioteca\; un lugar lleno de
  libros\, palabras\ny letras donde se esconden todos los cuentos\, los con
 ocidos y los que están\npor conocer. La Biblioteca se convierte en espaci
 o escénico\, donde un personaje\npeculiar traslada a los espectadores a u
 n lugar donde ver\, interpretar\, y\nleer dos de los cuentos clásicos má
 s importantes de la literatura universal.\nEl Patito feo y Caperucita Roja
 . Dos autores universales Andersen y Perrault\nunidos.\nEvent link: https:
 //teatroavanti.spaces.nexudus.com/en/events/view/941367438/veo-leo---cía-
 -teatro-arbolé---domingo-31-marzo--19-00-horas-\n
DTEND;TZID=Europe/Paris:20190331T200000
DTSTAMP:20260422T133806Z
DTSTART;TZID=Europe/Paris:20190331T190000
LOCATION:Teatro Avanti
SEQUENCE:0
SUMMARY:Veo Leo - Cía: Teatro Arbolé - Domingo 31 Marzo (19:00 horas)
UID:ea468944-20d1-4b7c-af44-a11e30304e9c
END:VEVENT
END:VCALENDAR
