BEGIN:VCALENDAR
PRODID:Nexudus
VERSION:2.0
BEGIN:VTIMEZONE
TZID:Europe/Paris
X-LIC-LOCATION:Europe/Paris
BEGIN:STANDARD
DTSTART:20241027T030000
RRULE:FREQ=YEARLY;BYDAY=-1SU;BYMONTH=10
TZNAME:CET
TZOFFSETFROM:+0200
TZOFFSETTO:+0100
END:STANDARD
BEGIN:DAYLIGHT
DTSTART:20250330T020000
RRULE:FREQ=YEARLY;BYDAY=-1SU;BYMONTH=3
TZNAME:CEST
TZOFFSETFROM:+0100
TZOFFSETTO:+0200
END:DAYLIGHT
END:VTIMEZONE
BEGIN:VEVENT
DESCRIPTION:Venus y Baco es una experiencia cómica participativa para cono
 cer el buen\nvivir y el modo de entretenimiento de los dioses y diosas rom
 anos como la\ndiosa Venus y el dios Baco. Ambos\, hablarán de la suma imp
 ortancia del\nsentido del humor para llegar a ser eternos o\, al menos\, e
 nvejecer\neternamente jóvenes. Canciones\, chistes\, vivencias\, reflexio
 nes...se\nsumarán a los consejos que ofrecerán como presentes a los tan 
 estresados\nmortales\nEvent link: https://teatroavanti.spaces.nexudus.com/
 en/events/view/1415022840/venus-y-baco---teatro-avanti---sábado-23-abril-
 -21-00-h--público-adulto\n
DTEND;TZID=Europe/Paris:20220423T220000
DTSTAMP:20260421T172035Z
DTSTART;TZID=Europe/Paris:20220423T210000
LOCATION:Teatro Avanti
SEQUENCE:0
SUMMARY:VENUS Y BACO - TEATRO AVANTI - Sábado 23 Abril (21:00 h) Público 
 adulto
UID:053bf480-570a-4b54-af0e-2a07f4d18770
END:VEVENT
END:VCALENDAR
