BEGIN:VCALENDAR
PRODID:Nexudus
VERSION:2.0
BEGIN:VTIMEZONE
TZID:Europe/Paris
X-LIC-LOCATION:Europe/Paris
BEGIN:STANDARD
DTSTART:20241027T030000
RRULE:FREQ=YEARLY;BYDAY=-1SU;BYMONTH=10
TZNAME:CET
TZOFFSETFROM:+0200
TZOFFSETTO:+0100
END:STANDARD
BEGIN:DAYLIGHT
DTSTART:20250330T020000
RRULE:FREQ=YEARLY;BYDAY=-1SU;BYMONTH=3
TZNAME:CEST
TZOFFSETFROM:+0100
TZOFFSETTO:+0200
END:DAYLIGHT
END:VTIMEZONE
BEGIN:VEVENT
DESCRIPTION:Sinopsis: Vive la experiencia única de «Una comedia incómoda
 ». Un solo actor sobre el escenario representa para el público el trabaj
 o de toda su compañía Él tiene esperanza en que lleguen sus compañeros
  sin saber que la policía está intentando impedir la representación.\nE
 spectáculo representado en el Corral de Comedias de Almagro con clamoroso
  éxito\, donde Javier Oliva\, bajo la dirección de Irene Salas\, hace la
 s delicias del público en un espectáculo que te llena de risas y emoció
 n.\n\nEvent link: https://teatroavanti.spaces.nexudus.com/en/events/view/1
 414864095/una-comedia-incomoda-----sábado-13-febrero---16-30-h---público
 -adulto\n
DTEND;TZID=Europe/Paris:20210213T220000
DTSTAMP:20260422T024404Z
DTSTART;TZID=Europe/Paris:20210213T200000
LOCATION:Teatro Avanti
SEQUENCE:0
SUMMARY:UNA COMEDIA INCOMODA   - Sábado 13 Febrero ( 16:30 h ) Público Ad
 ulto
UID:205f3077-2b74-4dda-a506-137dfeadbe74
END:VEVENT
END:VCALENDAR
