BEGIN:VCALENDAR
PRODID:Nexudus
VERSION:2.0
BEGIN:VTIMEZONE
TZID:Europe/Paris
X-LIC-LOCATION:Europe/Paris
BEGIN:STANDARD
DTSTART:20241027T030000
RRULE:FREQ=YEARLY;BYDAY=-1SU;BYMONTH=10
TZNAME:CET
TZOFFSETFROM:+0200
TZOFFSETTO:+0100
END:STANDARD
BEGIN:DAYLIGHT
DTSTART:20250330T020000
RRULE:FREQ=YEARLY;BYDAY=-1SU;BYMONTH=3
TZNAME:CEST
TZOFFSETFROM:+0100
TZOFFSETTO:+0200
END:DAYLIGHT
END:VTIMEZONE
BEGIN:VEVENT
DESCRIPTION:Vive la experiencia única de «Una comedia incómoda». Un sol
 o actor sobre el escenario representa para el público el trabajo de toda 
 su compañía Él tiene esperanza en que lleguen sus compañeros sin saber
  que la policía está intentando impedir la representación.\nEvent link:
  https://teatroavanti.spaces.nexudus.com/en/events/view/1414989177/una-com
 edia-incómoda---teatro-del-lazzi---aplazado--motivo-ajeno-a-teatro-avanti
 \n
DTEND;TZID=Europe/Paris:20220116T210000
DTSTAMP:20260421T185502Z
DTSTART;TZID=Europe/Paris:20220116T200000
LOCATION:Teatro Avanti
SEQUENCE:0
SUMMARY:UNA COMEDIA INCÓMODA - Teatro del Lazzi - APLAZADO- Motivo ajeno a
  Teatro Avanti
UID:df74e552-6e43-454c-85dc-0ceb50c78fe3
END:VEVENT
END:VCALENDAR
