BEGIN:VCALENDAR
PRODID:Nexudus
VERSION:2.0
BEGIN:VTIMEZONE
TZID:Europe/Paris
X-LIC-LOCATION:Europe/Paris
BEGIN:STANDARD
DTSTART:20241027T030000
RRULE:FREQ=YEARLY;BYDAY=-1SU;BYMONTH=10
TZNAME:CET
TZOFFSETFROM:+0200
TZOFFSETTO:+0100
END:STANDARD
BEGIN:DAYLIGHT
DTSTART:20250330T020000
RRULE:FREQ=YEARLY;BYDAY=-1SU;BYMONTH=3
TZNAME:CEST
TZOFFSETFROM:+0100
TZOFFSETTO:+0200
END:DAYLIGHT
END:VTIMEZONE
BEGIN:VEVENT
DESCRIPTION:Un globo\, 2 globos\, 3 globos… está enmarcado en un reconoc
 imiento a la figura\nde Gloria Fuertes y pretende reivindicar la vigencia 
 y actualidad de una de nuestras\nmayores “creadoras” contemporáneas d
 e literatura infantil.\nLa proyección y música de “un globo\, dos glob
 os\, tres globos” dan inicio a la\nobra en la que Las Chamanas “Katia 
 y Selma” cantan con el público el cientounaños\nfeliz a Gloria Fuertes
 . Nos contarán algunas cosas muy interesantes de su\nvida y también juga
 rán\, con algunos de los cuentos\, personajes y poemas más\nconocidos de
  la poeta.\nEvent link: https://teatroavanti.spaces.nexudus.com/en/events/
 view/1390936639/un-globo--dos-globos--tres-globos----aplazado--se-informar
 a-de-la-nueva-fecha-con-antelación-\n
DTEND;TZID=Europe/Paris:20201122T180000
DTSTAMP:20260422T041633Z
DTSTART;TZID=Europe/Paris:20201122T120000
LOCATION:Teatro Avanti
SEQUENCE:0
SUMMARY:Un globo\, dos globos\, tres globos... APLAZADO. Se informara de la
  nueva fecha con antelación.
UID:30e95467-9bb5-4b97-ae9a-046b0e2d1046
END:VEVENT
END:VCALENDAR
