BEGIN:VCALENDAR
PRODID:Nexudus
VERSION:2.0
BEGIN:VTIMEZONE
TZID:Europe/Paris
X-LIC-LOCATION:Europe/Paris
BEGIN:STANDARD
DTSTART:20241027T030000
RRULE:FREQ=YEARLY;BYDAY=-1SU;BYMONTH=10
TZNAME:CET
TZOFFSETFROM:+0200
TZOFFSETTO:+0100
END:STANDARD
BEGIN:DAYLIGHT
DTSTART:20250330T020000
RRULE:FREQ=YEARLY;BYDAY=-1SU;BYMONTH=3
TZNAME:CEST
TZOFFSETFROM:+0100
TZOFFSETTO:+0200
END:DAYLIGHT
END:VTIMEZONE
BEGIN:VEVENT
DESCRIPTION:Valentín es un niño que tras un largo día de colegio llega a
  su casa y comienza a sentirse raro y a recibir la visita de unos amigos u
 n tanto extraños…\n\nValentín junto con Calmy\, Happy y Angry nos ense
 ñará a gestionar nuestras emociones más básicas…\nEvent link: https:
 //teatroavanti.spaces.nexudus.com/en/events/view/1414990205/un-dia-monstru
 oso---el-ojo-del-bululú---domingo-6-febrero--12-00-h--público-familiar\n
DTEND;TZID=Europe/Paris:20220206T130000
DTSTAMP:20260421T185637Z
DTSTART;TZID=Europe/Paris:20220206T120000
LOCATION:Teatro Avanti
SEQUENCE:0
SUMMARY:UN DIA MONSTRUOSO - El Ojo del Bululú - Domingo 6 Febrero (12:00 h
 ) Público Familiar
UID:304b6639-7b7a-47e0-8082-6afb31db5eac
END:VEVENT
END:VCALENDAR
