BEGIN:VCALENDAR
PRODID:Nexudus
VERSION:2.0
BEGIN:VTIMEZONE
TZID:Europe/Paris
X-LIC-LOCATION:Europe/Paris
BEGIN:STANDARD
DTSTART:20241027T030000
RRULE:FREQ=YEARLY;BYDAY=-1SU;BYMONTH=10
TZNAME:CET
TZOFFSETFROM:+0200
TZOFFSETTO:+0100
END:STANDARD
BEGIN:DAYLIGHT
DTSTART:20250330T020000
RRULE:FREQ=YEARLY;BYDAY=-1SU;BYMONTH=3
TZNAME:CEST
TZOFFSETFROM:+0100
TZOFFSETTO:+0200
END:DAYLIGHT
END:VTIMEZONE
BEGIN:VEVENT
DESCRIPTION:Al llegar a casa\, Roger y Julia descubren que alguien ha entra
 do en su piso. No se han llevado absolutamente nada pero\, sin embargo\, s
 e han acostado en su cama de matrimonio\, ha movido de lugar los juguetes 
 de su hija de seis años y han dejado la televisión en funcionamiento con
  un DVD de una ecografía de la niña. La pareja vive la situación con in
 quietud y preocupación\, y se preguntan quién y por qué debe de haberlo
  hecho. Después del incidente\, Roger y Julia irán descubriendo aspectos
  que desconocían de su pareja.\nEvent link: https://teatroavanti.spaces.n
 exudus.com/en/events/view/1415008893/umbrio---azarte---viernes-18-febrero-
 2022--21-00-h--público-adulto\n
DTEND;TZID=Europe/Paris:20220218T211500
DTSTAMP:20260421T185823Z
DTSTART;TZID=Europe/Paris:20220218T210000
LOCATION:Teatro Avanti
SEQUENCE:0
SUMMARY:UMBRIO - Azarte - Viernes 18 Febrero 2022 (21:00 h) Público Adulto
UID:22517c14-8f34-43fa-b83f-a0dcec96c5f9
END:VEVENT
END:VCALENDAR
