BEGIN:VCALENDAR
PRODID:Nexudus
VERSION:2.0
BEGIN:VTIMEZONE
TZID:Europe/Paris
X-LIC-LOCATION:Europe/Paris
BEGIN:STANDARD
DTSTART:20241027T030000
RRULE:FREQ=YEARLY;BYDAY=-1SU;BYMONTH=10
TZNAME:CET
TZOFFSETFROM:+0200
TZOFFSETTO:+0100
END:STANDARD
BEGIN:DAYLIGHT
DTSTART:20250330T020000
RRULE:FREQ=YEARLY;BYDAY=-1SU;BYMONTH=3
TZNAME:CEST
TZOFFSETFROM:+0100
TZOFFSETTO:+0200
END:DAYLIGHT
END:VTIMEZONE
BEGIN:VEVENT
DESCRIPTION:En un reino muy lejano vive Cenicienta\, una linda niña llena 
 de cenizas\, a la\nque su madrastra la hace trabajar sin descanso día tra
 s día. La actitud positiva\nante la vida su suerte transformará. La magi
 a del hada madrina y sus\namigos los ratones a ello le ayudarán. Jabetín
  teatro nos ofrece esta versión\ndel cuento clásico cargada de valores y
  llena de momentos de diversión\njunto a sus cinco personajes. Con el obj
 etivo claro de disfrute para toda la\nfamilia es un espectáculo de calida
 d lleno de humor y sensibilidad.\nEvent link: https://teatroavanti.spaces.
 nexudus.com/en/events/view/274048781/ultimas-localidades-venta-exclusiva-t
 aquilla--cenicienta---domingo-5-marzo--12-00-y-18-00-h---público-familiar
 --infantil-5----adulto-6--\n
DTEND;TZID=Europe/Paris:20170305T190000
DTSTAMP:20260423T031313Z
DTSTART;TZID=Europe/Paris:20170305T120000
LOCATION:Teatro Avanti
SEQUENCE:0
SUMMARY: ULTIMAS LOCALIDADES VENTA EXCLUSIVA TAQUILLA. CENICIENTA - Domingo
  5 Marzo (12:00 y 18:00 h.) Público Familiar. Infantil 5€ - Adulto 6€
 . 
UID:0422793e-9e7b-4a13-989b-75d4d774e759
END:VEVENT
END:VCALENDAR
