BEGIN:VCALENDAR
PRODID:Nexudus
VERSION:2.0
BEGIN:VTIMEZONE
TZID:Europe/Paris
X-LIC-LOCATION:Europe/Paris
BEGIN:STANDARD
DTSTART:20241027T030000
RRULE:FREQ=YEARLY;BYDAY=-1SU;BYMONTH=10
TZNAME:CET
TZOFFSETFROM:+0200
TZOFFSETTO:+0100
END:STANDARD
BEGIN:DAYLIGHT
DTSTART:20250330T020000
RRULE:FREQ=YEARLY;BYDAY=-1SU;BYMONTH=3
TZNAME:CEST
TZOFFSETFROM:+0100
TZOFFSETTO:+0200
END:DAYLIGHT
END:VTIMEZONE
BEGIN:VEVENT
DESCRIPTION:En esta obra se demuestra que la creatividad no tiene límites\
 , que nuestro entorno\ncotidiano está lleno de posibilidades divertidas y
  alegres.\nEn esta obra de teatro buscamos el reencuentro con el niño que
  todos llevamos\ndentro\, acompañarlo y recorrer con él un camino lleno 
 de ilusión y entusiasmo.\nEvent link: https://teatroavanti.spaces.nexudus
 .com/en/events/view/270918651/ultimas-localidades-sólo-venta-en-taquilla-
 -infantil-5----adulto-6---horacio-y-la-montaña-azul---domingo-5-febrero--
 18-00-h--público-familiar\n
DTEND;TZID=Europe/Paris:20170205T190000
DTSTAMP:20260423T031313Z
DTSTART;TZID=Europe/Paris:20170205T180000
LOCATION:TEATRO AVANTI
SEQUENCE:0
SUMMARY:ULTIMAS LOCALIDADES SÓLO VENTA EN TAQUILLA -Infantil 5€ - Adulto
  6€. Horacio y la montaña azul - Domingo 5 Febrero (18:00 h) Público F
 amiliar
UID:da05edfb-f14f-4040-8ef7-b7ee54bcaa11
END:VEVENT
END:VCALENDAR
