BEGIN:VCALENDAR
PRODID:Nexudus
VERSION:2.0
BEGIN:VTIMEZONE
TZID:Europe/Paris
X-LIC-LOCATION:Europe/Paris
BEGIN:STANDARD
DTSTART:20241027T030000
RRULE:FREQ=YEARLY;BYDAY=-1SU;BYMONTH=10
TZNAME:CET
TZOFFSETFROM:+0200
TZOFFSETTO:+0100
END:STANDARD
BEGIN:DAYLIGHT
DTSTART:20250330T020000
RRULE:FREQ=YEARLY;BYDAY=-1SU;BYMONTH=3
TZNAME:CEST
TZOFFSETFROM:+0100
TZOFFSETTO:+0200
END:DAYLIGHT
END:VTIMEZONE
BEGIN:VEVENT
DESCRIPTION:XI FESTIVAL DE CIRCO DE CÓRDOBA\nBienvenidos una vez más a ot
 ro gran delirio creado por Trotonix. Donde una\nvez más volverá a hablar
 le de tú al mismísimo ridículo. Como hilo conductor\nentre número y n
 úmero\,el absurdo de sus divagaciones.\nTrotonix mediante sus presentacio
 nes de circo y magía\, cargadas de humor\ne ironía\,consigue la verdader
 a simbiosis con el público. Todo para mostrar\ny enseñar en qué pierde 
 el tiempo un payaso en invierno.\nEvent link: https://teatroavanti.spaces.
 nexudus.com/en/events/view/258214975/trotonix-de-lux---domingo-4-diciembre
 --18-00-horas--todos-los-públicos-\n
DTEND;TZID=Europe/Paris:20161204T190000
DTSTAMP:20260423T044407Z
DTSTART;TZID=Europe/Paris:20161204T180000
LOCATION:Teatro Avanti
SEQUENCE:0
SUMMARY:Trotonix de Lux - Domingo 4 Diciembre (18:00 horas) Todos los públ
 icos.
UID:9def9891-91e2-4bbc-8f03-3940f4871442
END:VEVENT
END:VCALENDAR
