BEGIN:VCALENDAR
PRODID:Nexudus
VERSION:2.0
BEGIN:VTIMEZONE
TZID:Europe/Paris
X-LIC-LOCATION:Europe/Paris
BEGIN:STANDARD
DTSTART:20241027T030000
RRULE:FREQ=YEARLY;BYDAY=-1SU;BYMONTH=10
TZNAME:CET
TZOFFSETFROM:+0200
TZOFFSETTO:+0100
END:STANDARD
BEGIN:DAYLIGHT
DTSTART:20250330T020000
RRULE:FREQ=YEARLY;BYDAY=-1SU;BYMONTH=3
TZNAME:CEST
TZOFFSETFROM:+0100
TZOFFSETTO:+0200
END:DAYLIGHT
END:VTIMEZONE
BEGIN:VEVENT
DESCRIPTION:Trolly tiene un jardín\, dónde recibe visitas de otros person
 ajes a los que les ocurre algo. Trolly\, pinta de colores las flores para 
 interpretar las emociones y así poder ayudar a todos a comprender que les
  ocurre. Continuando con su línea pedagógica\, Farandulario Teatro pone 
 en escena “Trolly Pintaflores”. Para lo cual recurre a una interpretac
 ión interactiva con los niños y niñas\, proyecciones de fondos con colo
 res y fomas en movimiento\, y otros recursos cómo magia\, las burbujas\, 
 la nieve\, el humo y el cantajuegos.\nEvent link: https://teatroavanti.spa
 ces.nexudus.com/en/events/view/1414988117/trolly-pintaflores---farandulari
 o-teatro---domingo-9-enero--12-00-h--público-familiar\n
DTEND;TZID=Europe/Paris:20220109T130000
DTSTAMP:20260421T203206Z
DTSTART;TZID=Europe/Paris:20220109T120000
LOCATION:Teatro Avanti
SEQUENCE:0
SUMMARY:TROLLY PINTAFLORES - Farandulario Teatro - Domingo 9 Enero (12:00 h
 ) Público Familiar
UID:57b1272c-efd3-4b5b-8e74-19b916338bfe
END:VEVENT
END:VCALENDAR
