BEGIN:VCALENDAR
PRODID:Nexudus
VERSION:2.0
BEGIN:VTIMEZONE
TZID:Europe/Paris
X-LIC-LOCATION:Europe/Paris
BEGIN:STANDARD
DTSTART:20241027T030000
RRULE:FREQ=YEARLY;BYDAY=-1SU;BYMONTH=10
TZNAME:CET
TZOFFSETFROM:+0200
TZOFFSETTO:+0100
END:STANDARD
BEGIN:DAYLIGHT
DTSTART:20250330T020000
RRULE:FREQ=YEARLY;BYDAY=-1SU;BYMONTH=3
TZNAME:CEST
TZOFFSETFROM:+0100
TZOFFSETTO:+0200
END:DAYLIGHT
END:VTIMEZONE
BEGIN:VEVENT
DESCRIPTION:LA AVENTURA EN CONCIERTO.TRIBUTO A FROZEN 2\nElsa\, Anna\, Olaf
 \, y Kristoff\, tras un intento fallido de celebrar el cumpleaños\nsorpre
 sa de Anna\, se quedan en el castillo a jugar a la mímica\, cuando de\nre
 pente\, Elsa escucha una misteriosa voz\, que finalmente\, les hace empren
 der\nuna mágica aventura en el Bosque Encantado. Un viaje en busca de\nre
 spuestas para conocer el origen\nEvent link: https://teatroavanti.spaces.n
 exudus.com/en/events/view/1397886499/tributo-a-frozen-2---domingo-13-dicie
 mbre--12-00-horas--localidades-agotadas\n
DTEND;TZID=Europe/Paris:20201213T150000
DTSTAMP:20260422T041834Z
DTSTART;TZID=Europe/Paris:20201213T120000
LOCATION:Teatro Avanti
SEQUENCE:0
SUMMARY:Tributo a Frozen 2 - Domingo 13 Diciembre (12:00 horas) LOCALIDADES
  AGOTADAS
UID:cb0a14fa-2939-4a55-b7e2-665f2b6f3581
END:VEVENT
END:VCALENDAR
