BEGIN:VCALENDAR
PRODID:Nexudus
VERSION:2.0
BEGIN:VTIMEZONE
TZID:Europe/Paris
X-LIC-LOCATION:Europe/Paris
BEGIN:STANDARD
DTSTART:20241027T030000
RRULE:FREQ=YEARLY;BYDAY=-1SU;BYMONTH=10
TZNAME:CET
TZOFFSETFROM:+0200
TZOFFSETTO:+0100
END:STANDARD
BEGIN:DAYLIGHT
DTSTART:20250330T020000
RRULE:FREQ=YEARLY;BYDAY=-1SU;BYMONTH=3
TZNAME:CEST
TZOFFSETFROM:+0100
TZOFFSETTO:+0200
END:DAYLIGHT
END:VTIMEZONE
BEGIN:VEVENT
DESCRIPTION:LA AVENTURA EN CONCIERTO.TRIBUTO A FROZEN 2 \nElsa\, Anna\, Ola
 f\, y Kristoff\, tras un intento fallido de celebrar el cumpleaños \nsorp
 resa de Anna\, se quedan en el castillo a jugar a la mímica\, cuando de \
 nrepente\, Elsa escucha una misteriosa voz\, que finalmente\, les hace em
 prender una mágica aventura en el Bosque Encantado. Un viaje en busca \nd
 e respuestas para conocer el origen de los poderes de Elsa y el control de
  \nlos elementos de la naturaleza.\nEvent link: https://teatroavanti.space
 s.nexudus.com/en/events/view/1414979715/tributo-a-frozen-2---aventura-en-c
 oncierto---domingo-12--diciembre--12-00-horas--público-familiar\n
DTEND;TZID=Europe/Paris:20211212T133000
DTSTAMP:20260421T203238Z
DTSTART;TZID=Europe/Paris:20211212T120000
LOCATION:Teatro Avanti
SEQUENCE:0
SUMMARY:Tributo a Frozen 2 \, Aventura en Concierto - Domingo 12  Diciembre
  (12:00 horas) Público Familiar
UID:f93fc7be-7458-46ee-9f96-0d4677045869
END:VEVENT
END:VCALENDAR
