BEGIN:VCALENDAR
PRODID:Nexudus
VERSION:2.0
BEGIN:VTIMEZONE
TZID:Europe/Paris
X-LIC-LOCATION:Europe/Paris
BEGIN:STANDARD
DTSTART:20241027T030000
RRULE:FREQ=YEARLY;BYDAY=-1SU;BYMONTH=10
TZNAME:CET
TZOFFSETFROM:+0200
TZOFFSETTO:+0100
END:STANDARD
BEGIN:DAYLIGHT
DTSTART:20250330T020000
RRULE:FREQ=YEARLY;BYDAY=-1SU;BYMONTH=3
TZNAME:CEST
TZOFFSETFROM:+0100
TZOFFSETTO:+0200
END:DAYLIGHT
END:VTIMEZONE
BEGIN:VEVENT
DESCRIPTION:i El mundo peta fijo!\nRubén García tiene un Plan. ¿La Vacun
 a del Coronavirs? i NO!\nEl plan pasa por reventar el sistema a base de hu
 mor\, comedia y muchas risas. Se independizó con sus abuelos y los ha met
 ido en el mundo de las nuevas tecnologías.\nDesafía al SG\, vuela con Ry
 anair\, viaja en Blablacar y llama a Telepizza cuando está lloviendo …\
 nUn show de 80 minutos\, picantón\, que contiene Monólogo\, Improvisaci
 ón y canciones.\nNo apto para puristas. \n\nEvent link: https://teatroava
 nti.spaces.nexudus.com/en/events/view/1414958500/the-plan----ruben-garcia-
 ---domingo-26-septiembre--20-00-h---público-adulto-\n
DTEND;TZID=Europe/Paris:20210926T210000
DTSTAMP:20260421T235238Z
DTSTART;TZID=Europe/Paris:20210926T200000
LOCATION:Teatro Avanti
SEQUENCE:0
SUMMARY:THE PLAN  - Ruben Garcia -  Domingo 26 Septiembre (20:00 h)  Públi
 co Adulto. 
UID:d8205130-44fa-4586-bb9c-d2c0f1407187
END:VEVENT
END:VCALENDAR
