BEGIN:VCALENDAR
PRODID:Nexudus
VERSION:2.0
BEGIN:VTIMEZONE
TZID:Europe/Paris
X-LIC-LOCATION:Europe/Paris
BEGIN:STANDARD
DTSTART:20241027T030000
RRULE:FREQ=YEARLY;BYDAY=-1SU;BYMONTH=10
TZNAME:CET
TZOFFSETFROM:+0200
TZOFFSETTO:+0100
END:STANDARD
BEGIN:DAYLIGHT
DTSTART:20250330T020000
RRULE:FREQ=YEARLY;BYDAY=-1SU;BYMONTH=3
TZNAME:CEST
TZOFFSETFROM:+0100
TZOFFSETTO:+0200
END:DAYLIGHT
END:VTIMEZONE
BEGIN:VEVENT
DESCRIPTION:XII FESTIVAL DE CIRCO DE CÓRDOBA\nJhonny Mentero es un descara
 do equilibrista que nos sorprenderá con su\ndedicación experta a este ar
 te tan inusual. Desde el comienzo deja claro\nque no es un artista convenc
 ional\, creando una atmósfera de confidencia\ncon el público. Escapismo\
 , malabares con sables y sobretodo grandes\ndosis de humor. Y para termina
 r\, un numero rompedor sobre la cuerda\nfloja\, donde este peculiar equili
 brista nos brinda lo mejor de su talento y\ndedicación. Magia y emoción 
 para toda la familia.\nEvent link: https://teatroavanti.spaces.nexudus.com
 /en/events/view/471680214/the-jhonny-mentero-show--jhonny-mentero--granada
 ---domingo-26-noviembre--18-00-horas--todos-los-públicos-\n
DTEND;TZID=Europe/Paris:20171126T190000
DTSTAMP:20260422T200836Z
DTSTART;TZID=Europe/Paris:20171126T180000
LOCATION:Teatro Avanti
SEQUENCE:0
SUMMARY:The Jhonny Mentero Show. Jhonny Mentero (Granada). Domingo 26 Novie
 mbre (18:00 horas) Todos los públicos.
UID:024a998a-dc33-4aa9-a582-aa7217192bee
END:VEVENT
END:VCALENDAR
