BEGIN:VCALENDAR
PRODID:Nexudus
VERSION:2.0
BEGIN:VTIMEZONE
TZID:Europe/Paris
X-LIC-LOCATION:Europe/Paris
BEGIN:STANDARD
DTSTART:20241027T030000
RRULE:FREQ=YEARLY;BYDAY=-1SU;BYMONTH=10
TZNAME:CET
TZOFFSETFROM:+0200
TZOFFSETTO:+0100
END:STANDARD
BEGIN:DAYLIGHT
DTSTART:20250330T020000
RRULE:FREQ=YEARLY;BYDAY=-1SU;BYMONTH=3
TZNAME:CEST
TZOFFSETFROM:+0100
TZOFFSETTO:+0200
END:DAYLIGHT
END:VTIMEZONE
BEGIN:VEVENT
DESCRIPTION:Obra de María Casal. Una comedia femenina con once situaciones
  disparatadas\nde tres mujeres. Te he dejado un pollo en el horno\, sigue 
 el tono de\ncomedia\, y está estructurada a base de “sketches”: cuatr
 o obras breves y\nsiete monólogos en clave de humor.\nOnce historias\, tr
 es actrices\, quince personajes que se encuentran en situaciones\ndisparat
 adas en las que\, sin embargo\, podemos reconocernos.\nEvent link: https:/
 /teatroavanti.spaces.nexudus.com/en/events/view/724386667/te-he-dejado-un-
 pollo-en-el-horno---cía--maría-casal----viernes-23-y-sábado-24-noviembr
 e--21-00-h--\n
DTEND;TZID=Europe/Paris:20181124T230000
DTSTAMP:20260422T151236Z
DTSTART;TZID=Europe/Paris:20181123T210000
LOCATION:Teatro Avanti
SEQUENCE:0
SUMMARY:Te he dejado un pollo en el horno - Cía. María Casal  - Viernes 2
 3 y Sábado 24 Noviembre (21:00 h.)
UID:4c24873e-4721-4961-a39a-59640df867e6
END:VEVENT
END:VCALENDAR
