BEGIN:VCALENDAR
PRODID:Nexudus
VERSION:2.0
BEGIN:VTIMEZONE
TZID:Europe/Paris
X-LIC-LOCATION:Europe/Paris
BEGIN:STANDARD
DTSTART:20241027T030000
RRULE:FREQ=YEARLY;BYDAY=-1SU;BYMONTH=10
TZNAME:CET
TZOFFSETFROM:+0200
TZOFFSETTO:+0100
END:STANDARD
BEGIN:DAYLIGHT
DTSTART:20250330T020000
RRULE:FREQ=YEARLY;BYDAY=-1SU;BYMONTH=3
TZNAME:CEST
TZOFFSETFROM:+0100
TZOFFSETTO:+0200
END:DAYLIGHT
END:VTIMEZONE
BEGIN:VEVENT
DESCRIPTION:Ambientada en la época medieval\, los Reyes Católicos\nde Esp
 aña\,ISABEL Y FERNANDO\, reciben a CRISTÓBAL COLÓN\,\ncon la firme inte
 nción de demostrar que el mundo es redondo\, pero\nal final lo que descub
 ren es un nuevo continente en el que ya existe\nel “Burguer King”.\n\n
 Event link: https://teatroavanti.spaces.nexudus.com/en/events/view/1414958
 393/tanto-monta-monta-tanto--viernes-24-y-sábado-25-septiembre--21-00-h--
 publico-adulto-\n
DTEND;TZID=Europe/Paris:20210925T220000
DTSTAMP:20260421T235216Z
DTSTART;TZID=Europe/Paris:20210924T210000
LOCATION:Teatro Avanti
SEQUENCE:0
SUMMARY:TANTO MONTA MONTA TANTO  Viernes 24 y Sábado 25 Septiembre (21:00 
 h) Publico Adulto. 
UID:84c9831d-69a1-4c93-81fa-7d74b492d324
END:VEVENT
END:VCALENDAR
