BEGIN:VCALENDAR
PRODID:Nexudus
VERSION:2.0
BEGIN:VTIMEZONE
TZID:Europe/Paris
X-LIC-LOCATION:Europe/Paris
BEGIN:STANDARD
DTSTART:20241027T030000
RRULE:FREQ=YEARLY;BYDAY=-1SU;BYMONTH=10
TZNAME:CET
TZOFFSETFROM:+0200
TZOFFSETTO:+0100
END:STANDARD
BEGIN:DAYLIGHT
DTSTART:20250330T020000
RRULE:FREQ=YEARLY;BYDAY=-1SU;BYMONTH=3
TZNAME:CEST
TZOFFSETFROM:+0100
TZOFFSETTO:+0200
END:DAYLIGHT
END:VTIMEZONE
BEGIN:VEVENT
DESCRIPTION:Cía: LA PUBLICA-PACO NEVADO\n\nObra donde el texto\, el movimi
 ento y la música dialogan en escena. Una historia contada de forma rota y
  desordenada que rompe con las dinámicas discursivas de la obra bien hech
 a. Soportada por una estética sencilla y potente\, jugando con pequeños 
 elementos escenográficos\, utilizando recursos metafóricos visuales en u
 n contexto sugerente. En escena tres personas\, ella\, él. Música interp
 retada en directo se conjugan con imágenes proyectadas sobre objetos\, en
  los que las palabras discurren de forma continua como elementos del paisa
 je que soportan la acción.\nEnlace al bloc de la compañia: http://lapubl
 icaproducciones.blogspot.com.es/2016/11/ilucc.html\n\n\nEvent link: https:
 //teatroavanti.spaces.nexudus.com/en/events/view/245153912/suspendida-por-
 motivos-de-la-compañía--illucc--18-noviembre--21-00-horas--público-adul
 to-\n
DTEND;TZID=Europe/Paris:20161118T210000
DTSTAMP:20260423T061039Z
DTSTART;TZID=Europe/Paris:20161118T210000
LOCATION:Teatro Avanti
SEQUENCE:0
SUMMARY:SUSPENDIDA POR MOTIVOS DE LA COMPAÑÍA. ILLUCC. 18 Noviembre (21:0
 0 horas) Público Adulto.
UID:f7bed166-3b8d-422d-8a39-00404480fb7f
END:VEVENT
END:VCALENDAR
