BEGIN:VCALENDAR
PRODID:Nexudus
VERSION:2.0
BEGIN:VTIMEZONE
TZID:Europe/Paris
X-LIC-LOCATION:Europe/Paris
BEGIN:STANDARD
DTSTART:20241027T030000
RRULE:FREQ=YEARLY;BYDAY=-1SU;BYMONTH=10
TZNAME:CET
TZOFFSETFROM:+0200
TZOFFSETTO:+0100
END:STANDARD
BEGIN:DAYLIGHT
DTSTART:20250330T020000
RRULE:FREQ=YEARLY;BYDAY=-1SU;BYMONTH=3
TZNAME:CEST
TZOFFSETFROM:+0100
TZOFFSETTO:+0200
END:DAYLIGHT
END:VTIMEZONE
BEGIN:VEVENT
DESCRIPTION:XV Festival de Circo de Córdoba.\nUna búsqueda de lo perdido\
 , un reencuentro con lo olvidado. La relación\nde una pareja y sus vestig
 ios cuando termina. Una propuesta hacia los\nsentimientos desde la melanco
 lía y el amor. Alodeyá pone en escena una\npropuesta coreografiada de da
 nza\, teatro\, circo y poesía que se mezclan\na ritmo de la música compu
 esta por Sofía Díaz e interpretada en directo.\nEvent link: https://teat
 roavanti.spaces.nexudus.com/en/events/view/1400470071/son-recuerdos---sáb
 ado-28-noviembre--16-30-h--todos-los-públicos\n
DTEND;TZID=Europe/Paris:20201128T180000
DTSTAMP:20260422T041759Z
DTSTART;TZID=Europe/Paris:20201128T163000
LOCATION:Teatro Avanti
SEQUENCE:0
SUMMARY:Son-recuerdos - Sábado 28 Noviembre (16:30 h) Todos los públicos
UID:9ebbeb1f-1bdc-4337-a8c6-f8c89e7d7b37
END:VEVENT
END:VCALENDAR
