BEGIN:VCALENDAR
PRODID:Nexudus
VERSION:2.0
BEGIN:VTIMEZONE
TZID:Europe/Paris
X-LIC-LOCATION:Europe/Paris
BEGIN:STANDARD
DTSTART:20241027T030000
RRULE:FREQ=YEARLY;BYDAY=-1SU;BYMONTH=10
TZNAME:CET
TZOFFSETFROM:+0200
TZOFFSETTO:+0100
END:STANDARD
BEGIN:DAYLIGHT
DTSTART:20250330T020000
RRULE:FREQ=YEARLY;BYDAY=-1SU;BYMONTH=3
TZNAME:CEST
TZOFFSETFROM:+0100
TZOFFSETTO:+0200
END:DAYLIGHT
END:VTIMEZONE
BEGIN:VEVENT
DESCRIPTION:Espectáculo en el que Circo\, Danza\, Teatro\, Poesía y Músi
 ca convergen en\nforma de puesta en escena para reflexionar acerca de la v
 iolencia de género\ny el machismo. Se pretende hacer un recorrido por las
  emociones internas\nmás profundas y arraigadas del ser humano en el que 
 la línea entre el\nequilibrio y el desequilibrio\, la “felicidad” y l
 a desdicha\, el amor y el odio\nes muy fina. Durante el espectáculo se ha
 rán actividades físicas como danza\,\nexpresión corporal\, cariocas de 
 luz\, contorsionismo y aro aéreo doble.\n\nPrecio entrada venta anticipad
 a en taquilla 8 € - El mismo día del espectáculo 10 €\nEvent link: h
 ttps://teatroavanti.spaces.nexudus.com/en/events/view/1145018932/sobre-la-
 cuerda-floja---cía---volans---viernes-18-octubre--21-00-h--público-adult
 o\n
DTEND;TZID=Europe/Paris:20191018T220000
DTSTAMP:20260422T102116Z
DTSTART;TZID=Europe/Paris:20191018T210000
LOCATION:Teatro Avanti
SEQUENCE:0
SUMMARY:SOBRE LA CUERDA FLOJA - Cía : Volans - Viernes 18 Octubre (21:00 h
 ) Público Adulto
UID:e1d18b3d-5403-4cce-a300-5078619619ac
END:VEVENT
END:VCALENDAR
