BEGIN:VCALENDAR
PRODID:Nexudus
VERSION:2.0
BEGIN:VTIMEZONE
TZID:Europe/Paris
X-LIC-LOCATION:Europe/Paris
BEGIN:STANDARD
DTSTART:20241027T030000
RRULE:FREQ=YEARLY;BYDAY=-1SU;BYMONTH=10
TZNAME:CET
TZOFFSETFROM:+0200
TZOFFSETTO:+0100
END:STANDARD
BEGIN:DAYLIGHT
DTSTART:20250330T020000
RRULE:FREQ=YEARLY;BYDAY=-1SU;BYMONTH=3
TZNAME:CEST
TZOFFSETFROM:+0100
TZOFFSETTO:+0200
END:DAYLIGHT
END:VTIMEZONE
BEGIN:VEVENT
DESCRIPTION:XI FESTIVAL DE CIRCO DE CÓRDOBA\n“Se acabó” es la histori
 a de dos personajes que sufren encuentros y\ndescuentros constantemente. U
 n mundo que deja a estos personajes la\nposibilidad de sincerarse\, entre 
 ellos y de cara al público\, para regalar sus\nverdades más escondidas\,
  siempre en clave de humor.\nEs un espectáculo apto a todo tipo de públi
 cos en el que se mezlcan\ndisciplinas circenses\, teatro y manipulación d
 e objectos.\nEvent link: https://teatroavanti.spaces.nexudus.com/en/events
 /view/258214976/se-acabó-------domingo-4-diciembre--12-00-horas--todos-lo
 s-públicos-\n
DTEND;TZID=Europe/Paris:20161204T120000
DTSTAMP:20260423T044316Z
DTSTART;TZID=Europe/Paris:20161204T120000
LOCATION:TEATRO AVANTI
SEQUENCE:0
SUMMARY:Se acabó ... - Domingo 4 Diciembre (12:00 horas) Todos los públic
 os.
UID:374065ec-c6e4-425a-98e7-72582610f671
END:VEVENT
END:VCALENDAR
