BEGIN:VCALENDAR
PRODID:Nexudus
VERSION:2.0
BEGIN:VTIMEZONE
TZID:Europe/Paris
X-LIC-LOCATION:Europe/Paris
BEGIN:STANDARD
DTSTART:20241027T030000
RRULE:FREQ=YEARLY;BYDAY=-1SU;BYMONTH=10
TZNAME:CET
TZOFFSETFROM:+0200
TZOFFSETTO:+0100
END:STANDARD
BEGIN:DAYLIGHT
DTSTART:20250330T020000
RRULE:FREQ=YEARLY;BYDAY=-1SU;BYMONTH=3
TZNAME:CEST
TZOFFSETFROM:+0100
TZOFFSETTO:+0200
END:DAYLIGHT
END:VTIMEZONE
BEGIN:VEVENT
DESCRIPTION:Riki Rivera nos muestra una visión del arte a través de la m
 úsica instrumental\,\nlas canciones que ha escrito durante los últimos v
 einte años y dialoga con una\nguitarra que habla por si sola.\nEvent link
 : https://teatroavanti.spaces.nexudus.com/en/events/view/1414972836/riki-r
 ivera---nada-que-no-sienta--viernes-12-noviembre--21-00-horas--público-ad
 ulto-\n
DTEND;TZID=Europe/Paris:20211112T221500
DTSTAMP:20260421T222039Z
DTSTART;TZID=Europe/Paris:20211112T210000
LOCATION:Teatro Avanti
SEQUENCE:0
SUMMARY:Riki Rivera - Nada que no sienta- Viernes 12 Noviembre (21:00 horas
 ) Público Adulto.
UID:527c69ce-af82-462e-9045-ace72160d746
END:VEVENT
END:VCALENDAR
