BEGIN:VCALENDAR
PRODID:Nexudus
VERSION:2.0
BEGIN:VTIMEZONE
TZID:Europe/Paris
X-LIC-LOCATION:Europe/Paris
BEGIN:STANDARD
DTSTART:20241027T030000
RRULE:FREQ=YEARLY;BYDAY=-1SU;BYMONTH=10
TZNAME:CET
TZOFFSETFROM:+0200
TZOFFSETTO:+0100
END:STANDARD
BEGIN:DAYLIGHT
DTSTART:20250330T020000
RRULE:FREQ=YEARLY;BYDAY=-1SU;BYMONTH=3
TZNAME:CEST
TZOFFSETFROM:+0100
TZOFFSETTO:+0200
END:DAYLIGHT
END:VTIMEZONE
BEGIN:VEVENT
DESCRIPTION:Este espectáculo es solo para los elegidos\, vosotros: Los que
  sabíais que las gomas de Milán Nata no sabían a Nata\, sino a goma. Qu
 e la goma de rotulador era como lija\, pero no borraba nada. Que en el bol
 i de 12 colores no podían salir todos a la vez.\nEvent link: https://teat
 roavanti.spaces.nexudus.com/en/events/view/1415022729/regreso-al-pasado---
 raúl-anto-n---viernes-6-mayo--21-00-h--público-adulto\n
DTEND;TZID=Europe/Paris:20220506T220000
DTSTAMP:20260421T171912Z
DTSTART;TZID=Europe/Paris:20220506T210000
LOCATION:Teatro Avanti
SEQUENCE:0
SUMMARY:REGRESO AL PASADO - Raúl Antón - Viernes 6 Mayo (21:00 h) Públi
 co adulto
UID:e180dd30-8962-44a2-bda1-57faf1b03820
END:VEVENT
END:VCALENDAR
