BEGIN:VCALENDAR
PRODID:Nexudus
VERSION:2.0
BEGIN:VTIMEZONE
TZID:Europe/Paris
X-LIC-LOCATION:Europe/Paris
BEGIN:STANDARD
DTSTART:20241027T030000
RRULE:FREQ=YEARLY;BYDAY=-1SU;BYMONTH=10
TZNAME:CET
TZOFFSETFROM:+0200
TZOFFSETTO:+0100
END:STANDARD
BEGIN:DAYLIGHT
DTSTART:20250330T020000
RRULE:FREQ=YEARLY;BYDAY=-1SU;BYMONTH=3
TZNAME:CEST
TZOFFSETFROM:+0100
TZOFFSETTO:+0200
END:DAYLIGHT
END:VTIMEZONE
BEGIN:VEVENT
DESCRIPTION:<p>La obra es una reflexi&oacute\;n divertida sobre la compleji
 dad de ser mujer\, de lo exigente\, y mil veces contradictorio del rol fem
 enino. De la lata que da eso de tratar de ser una mujer perfecta\, ser una
  &ldquo\;superguoman&rdquo\;\, donde se da por hecho que ya tenemos que sa
 ber c&oacute\;mo serlo por el simple hecho de haber nacido mujeres y c&oac
 ute\;mo en realidad\, estamos totalmente perdidas\, y salimos del paso lo 
 mejor que podemos\, que ya es mucho. La protagonista se enfrenta a situaci
 ones cotidianas de cualquier mujer y cuenta c&oacute\;mo sobrevive o las s
 obrelleva\, siempre con much&iacute\;simo humor\, hasta llegar a provocar 
 aut&eacute\;nticas carcajadas.</p>\nEvent link: https://teatroavanti.space
 s.nexudus.com/en/events/view/1281540265/queda-pospuesta-la-representacion-
 de-este-espectáculo-hasta-nuevo-aviso--jodidas-pero-contentas\n
DTEND;TZID=Europe/Paris:20200520T210000
DTSTAMP:20260422T072858Z
DTSTART;TZID=Europe/Paris:20200418T210000
LOCATION:Teatro Avanti
SEQUENCE:0
SUMMARY:QUEDA POSPUESTA LA REPRESENTACION DE ESTE ESPECTÁCULO HASTA NUEVO 
 AVISO.-Jodidas pero contentas 
UID:2780709a-a340-4ad4-88da-991c37fc9ce3
END:VEVENT
END:VCALENDAR
