BEGIN:VCALENDAR
PRODID:Nexudus
VERSION:2.0
BEGIN:VTIMEZONE
TZID:Europe/Paris
X-LIC-LOCATION:Europe/Paris
BEGIN:STANDARD
DTSTART:20241027T030000
RRULE:FREQ=YEARLY;BYDAY=-1SU;BYMONTH=10
TZNAME:CET
TZOFFSETFROM:+0200
TZOFFSETTO:+0100
END:STANDARD
BEGIN:DAYLIGHT
DTSTART:20250330T020000
RRULE:FREQ=YEARLY;BYDAY=-1SU;BYMONTH=3
TZNAME:CEST
TZOFFSETFROM:+0100
TZOFFSETTO:+0200
END:DAYLIGHT
END:VTIMEZONE
BEGIN:VEVENT
DESCRIPTION:<p>S&aacute\;tira de esta vida tan incorregible que soportamos 
 y nos conduce a una espiral de situaciones y momentos antol&oacute\;gicos\
 , de una sociedad cada d&iacute\;a m&aacute\;s primitiva\, con falta de cr
 iterio y el &ldquo\;todo vale&rdquo\; como su leitmotiv. Un espect&aacute\
 ;culo divertido\, fresco\, directo y arrebatadoramente sorprendente que en
  ocasiones consigue dejarte sin aliento.</p>\nEvent link: https://teatroav
 anti.spaces.nexudus.com/en/events/view/1281540266/queda-pospuesta-la-repre
 sentacion-de-este-espectáculo-hasta-nuevo-aviso--hoy-no-me-puedo-acostar-
 --marcos-arizmendi\n
DTEND;TZID=Europe/Paris:20200520T220000
DTSTAMP:20260422T073151Z
DTSTART;TZID=Europe/Paris:20200419T200000
LOCATION:Teatro Avanti
SEQUENCE:0
SUMMARY:QUEDA POSPUESTA LA REPRESENTACION DE ESTE ESPECTÁCULO HASTA NUEVO 
 AVISO.-Hoy no me puedo acostar - Marcos Arizmendi
UID:4ca38b3b-5eb0-4d4b-a428-9ec4f5c1d6f8
END:VEVENT
END:VCALENDAR
