BEGIN:VCALENDAR
PRODID:Nexudus
VERSION:2.0
BEGIN:VTIMEZONE
TZID:Europe/Paris
X-LIC-LOCATION:Europe/Paris
BEGIN:STANDARD
DTSTART:20241027T030000
RRULE:FREQ=YEARLY;BYDAY=-1SU;BYMONTH=10
TZNAME:CET
TZOFFSETFROM:+0200
TZOFFSETTO:+0100
END:STANDARD
BEGIN:DAYLIGHT
DTSTART:20250330T020000
RRULE:FREQ=YEARLY;BYDAY=-1SU;BYMONTH=3
TZNAME:CEST
TZOFFSETFROM:+0100
TZOFFSETTO:+0200
END:DAYLIGHT
END:VTIMEZONE
BEGIN:VEVENT
DESCRIPTION:PROGRAMA FESTIVAL DE MAGIA - IMAGILUSION 2.019\n\nPROGRAMA FEST
 IVAL DE MAGIA - IMAGILUSION 2.019\n\n\nJUEVES 7 NOVIEMBRE\nCARPA MÁGICA 1
 8 a 20h.-El Corte Inglés (Ronda de los Tejares).\n\n\nVIERNES 8 NOVIEMBRE
 \nCARPA MÁGICA 18 a 20h.-El Corte Inglés (Ronda de los Tejares).\nGALA M
 ÁGICA/21.00 H/TEATRO AVANTI. “LOS WONDER MÁGICOS”\nMagos Robin Ventu
 ra\, Alanis Jaipur y Yuli Necul. Sorprendente y divertido show de ilusioni
 smo\nrepleto de efectos imposibles\, humor y participación del público.\
 nEntrada anticipada: 8 euros. Día del espectáculo: 10 euros. Todos los p
 úblicos.\n\n\nSÁBADO 9 NOVIEMBRE\nCARPA MÁGICA 12 a 14h. y 18 a 20h. -E
 l Corte Inglés (Ronda de los Tejares).\nGALA MÁGICA/21.00 H/TEATRO AVANT
 I.\nAlberto Fábulo: Actor\, fascinador\, cómico\, fakir\, mentalista\, c
 uenta historias o escapista\, un artista\nque transmite emociones a travé
 s de la magia y la palabra.\nJavi Benítez: Premio mundial de magia y gana
 dor de Fool Us en la Vegas en el prestigioso programa\nde Penn and Teller.
 \nNaife: Eran tiempos de brujos\, magos y hechiceros\, algunos eran capace
 s de dar saltos en el tiempo.\nOihan Palacín: Acaba de recibir el primer 
 premio en la disciplina más complicada de la magia la\nmanipulación\, en
  el último Congreso Nacional de magos.\nRobin y Alanís: En esta gala no 
 pueden faltar las grandes ilusiones\, ellos son especialistas\, les\navala
 n decenas de años recorriendo el mundo repartiendo ilusiones.\nEntrada an
 ticipada: 10 euros. Día del espectáculo: 12 euros. Todos los públicos.\
 n\n\nDOMINGO 10 NOVIEMBRE\nGALA MÁGICA FAMILIAR/12.00 H Y 18.00H/TEATRO A
 VANTI.CLÁSICOS MÁGICOS Espectáculo\ncon música en directo\, donde apre
 ndemos de la música clásica\, los instrumentos\, los autores\nmás signi
 ficativos y cuáles son sus piezas musicales más celebres\, como se hace 
 música\, con un\ndirector de orquesta y músicos algo especiales y todo a
 compañado de trucos y efectos de Magia.\nAl piano\, la maestra Sofía Pok
 rivailo\, al violín el maestro Leo Pokrivailo y en la dirección de esta\
 nfantástica orquesta el mago Flain que te Flain.\nEntrada adultos: 7 euro
 s/infantil: 6 euros. Público familiar.\n\n\nLUNES 12 Y MARTES 13 NOVIEMBR
 E\nEDUCATEATRO 10 Y 11.30 H. “CLÁSICOS MÁGICOS”. PRODUCCIONES AVANTI
 \n\n\nENCUENTROS MÁGICOS\n8 Y 9 DE NOVIEMBRE EN DE CACHÉ SALESIANOS A PA
 RTIR DE LAS 23.30 H.\nEvent link: https://teatroavanti.spaces.nexudus.com/
 en/events/view/1194138015/programa-festival-de-magia---imagilusion-2-019\n
DTEND;TZID=Europe/Paris:20191110T200000
DTSTAMP:20260422T101722Z
DTSTART;TZID=Europe/Paris:20191107T180000
LOCATION:Teatro Avanti
SEQUENCE:0
SUMMARY:PROGRAMA FESTIVAL DE MAGIA - IMAGILUSION 2.019
UID:990a9bbb-67a8-4b7e-bd15-83634eb3c616
END:VEVENT
END:VCALENDAR
