BEGIN:VCALENDAR
PRODID:Nexudus
VERSION:2.0
BEGIN:VTIMEZONE
TZID:Europe/Paris
X-LIC-LOCATION:Europe/Paris
BEGIN:STANDARD
DTSTART:20241027T030000
RRULE:FREQ=YEARLY;BYDAY=-1SU;BYMONTH=10
TZNAME:CET
TZOFFSETFROM:+0200
TZOFFSETTO:+0100
END:STANDARD
BEGIN:DAYLIGHT
DTSTART:20250330T020000
RRULE:FREQ=YEARLY;BYDAY=-1SU;BYMONTH=3
TZNAME:CEST
TZOFFSETFROM:+0100
TZOFFSETTO:+0200
END:DAYLIGHT
END:VTIMEZONE
BEGIN:VEVENT
DESCRIPTION:Jabón y música. Pompas y compás. Y ya está. Un espectáculo
  onírico para dejarse llevar por la vista y el oído\, sin palabras\, sin
  letras\, tan solo un viaje liviano y cristalino. La mezcla de la música 
 del hang junto con la visión de las pompas de jabón hace algo único par
 a la relajación y el disfrute\, dos artistas\, un músico y un pompero\, 
 juntos\, mano a mano poniendo imágenes a la música.\nEvent link: https:/
 /teatroavanti.spaces.nexudus.com/en/events/view/1414864172/pomphang--domin
 go-7-febrero---16-30-h----público-familiar-\n
DTEND;TZID=Europe/Paris:20210207T193000
DTSTAMP:20260422T024354Z
DTSTART;TZID=Europe/Paris:20210207T163000
LOCATION:Teatro Avanti
SEQUENCE:0
SUMMARY:POMPHANG -Domingo 7 Febrero ( 16:30 h ). Público Familiar.
UID:d0f0a89f-f255-4920-9d47-7113d1ae146a
END:VEVENT
END:VCALENDAR
