BEGIN:VCALENDAR
PRODID:Nexudus
VERSION:2.0
BEGIN:VTIMEZONE
TZID:Europe/Paris
X-LIC-LOCATION:Europe/Paris
BEGIN:STANDARD
DTSTART:20241027T030000
RRULE:FREQ=YEARLY;BYDAY=-1SU;BYMONTH=10
TZNAME:CET
TZOFFSETFROM:+0200
TZOFFSETTO:+0100
END:STANDARD
BEGIN:DAYLIGHT
DTSTART:20250330T020000
RRULE:FREQ=YEARLY;BYDAY=-1SU;BYMONTH=3
TZNAME:CEST
TZOFFSETFROM:+0100
TZOFFSETTO:+0200
END:DAYLIGHT
END:VTIMEZONE
BEGIN:VEVENT
DESCRIPTION:Platero\, cuéntame es una tierna historia que cuenta la amista
 d del poeta Juan Ramón Jiménez y el pequeño burrito Platero. Una amista
 d sencilla y sincera\, donde los días pasan de la casa a la colina\, entr
 e paseos por los llanos\, disfrutando del campo\, las flores y entre juego
 s con las sobrinas de Juan Ramón\, la perra Diana y la cabra. Habla sobre
  la ternura de Platero\, de sus sueños y maravillas. Una historia donde p
 odremos conocer más sobre la poética y la literatura de su autor\, Juan 
 Ramón\, sobre la ciudad donde nació\, Moguer y sobre cómo eran sus pens
 amientos y su forma de escribir.\nEvent link: https://teatroavanti.spaces.
 nexudus.com/en/events/view/568860319/platero-cuentame---domingo-8--19-00-h
 oras--publico-familiar-\n
DTEND;TZID=Europe/Paris:20180408T200000
DTSTAMP:20260422T182821Z
DTSTART;TZID=Europe/Paris:20180408T190000
LOCATION:Teatro Avanti
SEQUENCE:0
SUMMARY:PLATERO CUENTAME - Domingo 8 (19:00 horas) Publico Familiar.
UID:598dbd55-5647-4150-acef-ef328b2d3063
END:VEVENT
END:VCALENDAR
