BEGIN:VCALENDAR
PRODID:Nexudus
VERSION:2.0
BEGIN:VTIMEZONE
TZID:Europe/Paris
X-LIC-LOCATION:Europe/Paris
BEGIN:STANDARD
DTSTART:20241027T030000
RRULE:FREQ=YEARLY;BYDAY=-1SU;BYMONTH=10
TZNAME:CET
TZOFFSETFROM:+0200
TZOFFSETTO:+0100
END:STANDARD
BEGIN:DAYLIGHT
DTSTART:20250330T020000
RRULE:FREQ=YEARLY;BYDAY=-1SU;BYMONTH=3
TZNAME:CEST
TZOFFSETFROM:+0100
TZOFFSETTO:+0200
END:DAYLIGHT
END:VTIMEZONE
BEGIN:VEVENT
DESCRIPTION:Gepeto se encuentra con un tronco de madera de pino algo especi
 al\, pues en su interior se encierra la forma infantil de un muñeco basta
 nte rebelde con alma de niño\, y cuya principal misión será demostrar a
  su creador que puede ser el hijo perfecto.\nEvent link: https://teatroava
 nti.spaces.nexudus.com/en/events/view/1414958694/pinocho-y-su-gepeto---dom
 ingo-10-octubre---18-00-h--público-familiar--\n
DTEND;TZID=Europe/Paris:20211010T190000
DTSTAMP:20260421T222033Z
DTSTART;TZID=Europe/Paris:20211010T180000
LOCATION:Teatro Avanti
SEQUENCE:0
SUMMARY:PINOCHO Y SU GEPETO - Domingo 10 Octubre  (18:00 h) Público Famili
 ar . 
UID:4341fe9f-c3ef-4355-ad9f-75cb73ecdb3b
END:VEVENT
END:VCALENDAR
