BEGIN:VCALENDAR
PRODID:Nexudus
VERSION:2.0
BEGIN:VTIMEZONE
TZID:Europe/Paris
X-LIC-LOCATION:Europe/Paris
BEGIN:STANDARD
DTSTART:20241027T030000
RRULE:FREQ=YEARLY;BYDAY=-1SU;BYMONTH=10
TZNAME:CET
TZOFFSETFROM:+0200
TZOFFSETTO:+0100
END:STANDARD
BEGIN:DAYLIGHT
DTSTART:20250330T020000
RRULE:FREQ=YEARLY;BYDAY=-1SU;BYMONTH=3
TZNAME:CEST
TZOFFSETFROM:+0100
TZOFFSETTO:+0200
END:DAYLIGHT
END:VTIMEZONE
BEGIN:VEVENT
DESCRIPTION:Pasar por el aro es una comedia social y deportiva\, que cala h
 ondo y nos\nempapa.\nEs la charca donde se desbordan nuestras emociones\, 
 camino del llanto o\nde la risa\, cuando subimos al podio del HUMOR y nos 
 dejamos atrapar por\nla alegría... O la nostalgia.\nEvent link: https://t
 eatroavanti.spaces.nexudus.com/en/events/view/780827054/pasar-por-el-aro--
 -cía--facultad-mermada---viernes-25-y-sabado-26-enero--21-00-h-\n
DTEND;TZID=Europe/Paris:20190127T220000
DTSTAMP:20260422T151118Z
DTSTART;TZID=Europe/Paris:20190126T210000
LOCATION:Teatro Avanti
SEQUENCE:0
SUMMARY:Pasar por el aro - Cía. Facultad Mermada - Viernes 25 y Sabado 26 
 Enero (21:00 h)
UID:4ec522a3-541d-442c-93d6-4d215f4eb2b6
END:VEVENT
END:VCALENDAR
