BEGIN:VCALENDAR
PRODID:Nexudus
VERSION:2.0
BEGIN:VTIMEZONE
TZID:Europe/Paris
X-LIC-LOCATION:Europe/Paris
BEGIN:STANDARD
DTSTART:20241027T030000
RRULE:FREQ=YEARLY;BYDAY=-1SU;BYMONTH=10
TZNAME:CET
TZOFFSETFROM:+0200
TZOFFSETTO:+0100
END:STANDARD
BEGIN:DAYLIGHT
DTSTART:20250330T020000
RRULE:FREQ=YEARLY;BYDAY=-1SU;BYMONTH=3
TZNAME:CEST
TZOFFSETFROM:+0100
TZOFFSETTO:+0200
END:DAYLIGHT
END:VTIMEZONE
BEGIN:VEVENT
DESCRIPTION:Ohiá\, un pequeño diente de león\, en busca de sus lindas es
 poras\, emprende un\nviaje onírico lleno de aventuras\, emociones y cambi
 os sorprendentes que le\nayudarán a comprender la belleza de la zaranda d
 e la vida. Brotar\, florecer\, \nmarchitar y... volver a brotar.\n\nEvent 
 link: https://teatroavanti.spaces.nexudus.com/en/events/view/1414958502/oh
 iá---domingo-3-octubre--18-00-h--público-familiar--\n
DTEND;TZID=Europe/Paris:20211003T190000
DTSTAMP:20260421T221505Z
DTSTART;TZID=Europe/Paris:20211003T180000
LOCATION:Teatro Avanti
SEQUENCE:0
SUMMARY:OHIÁ - Domingo 3 Octubre (18:00 h) Público Familiar . 
UID:358c9f46-52b1-4243-ac4e-ca233adc5f6f
END:VEVENT
END:VCALENDAR
