BEGIN:VCALENDAR
PRODID:Nexudus
VERSION:2.0
BEGIN:VTIMEZONE
TZID:Europe/Paris
X-LIC-LOCATION:Europe/Paris
BEGIN:STANDARD
DTSTART:20241027T030000
RRULE:FREQ=YEARLY;BYDAY=-1SU;BYMONTH=10
TZNAME:CET
TZOFFSETFROM:+0200
TZOFFSETTO:+0100
END:STANDARD
BEGIN:DAYLIGHT
DTSTART:20250330T020000
RRULE:FREQ=YEARLY;BYDAY=-1SU;BYMONTH=3
TZNAME:CEST
TZOFFSETFROM:+0100
TZOFFSETTO:+0200
END:DAYLIGHT
END:VTIMEZONE
BEGIN:VEVENT
DESCRIPTION:Obra musical “De Simba a Kiara\, el tributo del Rey León”\
 , de la mano de la compañía madrileña Onbeat. Simba\, Kiara y todos los
  personajes de la\nafamada historia de Disney ‘El rey León’ dan forma
  a este musical pensado para todos los públicos en el que se hace un trib
 uto a la citada historia.\n\nPrecio en taquilla: anticipada 15 € día es
 pectáculo 18 €\nEvent link: https://teatroavanti.spaces.nexudus.com/en/
 events/view/714325623/nueva-funcion---el-tributo-del-rey-leon--de-samba-a-
 kiara---sábado-29-a-las-20-30-horas-\n
DTEND;TZID=Europe/Paris:20180929T220000
DTSTAMP:20260422T165034Z
DTSTART;TZID=Europe/Paris:20180929T203100
LOCATION:Teatro Avanti
SEQUENCE:0
SUMMARY:NUEVA FUNCION - EL TRIBUTO DEL REY LEON. DE SAMBA A KIARA - Sábado
  29 a las 20:30 horas.
UID:87cc0f05-6a88-4ac3-b4d6-6bae63d9056f
END:VEVENT
END:VCALENDAR
