BEGIN:VCALENDAR
PRODID:Nexudus
VERSION:2.0
BEGIN:VTIMEZONE
TZID:Europe/Paris
X-LIC-LOCATION:Europe/Paris
BEGIN:STANDARD
DTSTART:20241027T030000
RRULE:FREQ=YEARLY;BYDAY=-1SU;BYMONTH=10
TZNAME:CET
TZOFFSETFROM:+0200
TZOFFSETTO:+0100
END:STANDARD
BEGIN:DAYLIGHT
DTSTART:20250330T020000
RRULE:FREQ=YEARLY;BYDAY=-1SU;BYMONTH=3
TZNAME:CEST
TZOFFSETFROM:+0100
TZOFFSETTO:+0200
END:DAYLIGHT
END:VTIMEZONE
BEGIN:VEVENT
DESCRIPTION:MUJERES\, es un espectáculo de danza contemporánea e interpre
 tación textual que invitan a las espectadoras y espectadores a realizar u
 na mirada introspectiva y reflexiva sobre la situación emocional experime
 ntada y sufrida por muchas mujeres. No se trata tanto de un crítica banal
  sobre la injusta situación de las mujeres en el siglo XXI\, sino un cues
 tionamiento interno sobre qué somos las mujeres y qué se espera de nosot
 ras.La danza y  el texto realizan una simbiosis sensorial que conecta con 
 la mirada interna de cada espectadora o espectador.\nEvent link: https://t
 eatroavanti.spaces.nexudus.com/en/events/view/1415087148/mujeres---lucía-
 nevado---viernes-2-diciembre--21-00-h--público-adulto\n
DTEND;TZID=Europe/Paris:20221202T220000
DTSTAMP:20260421T140324Z
DTSTART;TZID=Europe/Paris:20221202T210000
LOCATION:Teatro Avanti
SEQUENCE:0
SUMMARY:MUJERES - Lucía Nevado - Viernes 2 Diciembre (21:00 h) Público Ad
 ulto
UID:a6af9dbe-82f1-4998-b386-73f4dbccf9d7
END:VEVENT
END:VCALENDAR
