BEGIN:VCALENDAR
PRODID:Nexudus
VERSION:2.0
BEGIN:VTIMEZONE
TZID:Europe/Paris
X-LIC-LOCATION:Europe/Paris
BEGIN:STANDARD
DTSTART:20241027T030000
RRULE:FREQ=YEARLY;BYDAY=-1SU;BYMONTH=10
TZNAME:CET
TZOFFSETFROM:+0200
TZOFFSETTO:+0100
END:STANDARD
BEGIN:DAYLIGHT
DTSTART:20250330T020000
RRULE:FREQ=YEARLY;BYDAY=-1SU;BYMONTH=3
TZNAME:CEST
TZOFFSETFROM:+0100
TZOFFSETTO:+0200
END:DAYLIGHT
END:VTIMEZONE
BEGIN:VEVENT
DESCRIPTION:MUESTRA DE TEATRO AFICIONADO - DEL 26 DE ENERO AL 17 DE MARZO (
 Venta de entradas exclusivamente en taquilla.Precio 3€)\n\n14 REPRESENTA
 CIONES\n\n26 DE ENERO/LOYOLA-TEATRO/“LOS BOSQUES DE NIX”\n2 DE FEBRERO
 /SQUIZO TEATRO/“HAY QUE DESHACER LA CASA”\n3 DE FEBRERO/LA TARIMA DEL 
 ALTO GUADIATO/“DEFENSA DE DAMAS”\n9 DE FEBRERO/ASOCIACIÓN PONTAN@S/
 “CABARET\, LA VIDA ES DIVINA”\n16 DE FEBRERO/CUARTA PARED/“BUSCANDO 
 OBRA”\n17 DE FEBRERO/LA CEPA/“POLITICAMENTE INCORRECTO”\n23 DE FEBRE
 RO/ILUSIONES/“OCHO MUJERES”\n24 DE FEBRERO/MORFEO/“Y AHORA NOS VAMOS
  SIN PAGAR”\n2 DE MARZO/AMISTADES/“ESOS RUSOS LOCOS”\n3 DE MARZO/ATA
 RDECER/“LA VIDA PRIVADA DE MAMÁ”\n9 DE MARZO/TRITEATRAS/“PERVERSIÓ
 N MEDEA”\n10 DE MARZO/LA PLAZA/“ORQUESTA DE SEÑORITAS”\n16 DE MARZO
 /HISTORIAS DE PAPEL/“PACIENTES”\n17 DE MARZO/AQUI Y AHORA TEATRO/"LAS 
 HERIDAS DEL VIENTO"\nEvent link: https://teatroavanti.spaces.nexudus.com/e
 n/events/view/512618121/muestra-de-teatro-aficionado---del-26-de-enero-al-
 17-de-marzo--venta-de-entradas-exclusivamente-en-taquilla-precio-3--\n
DTEND;TZID=Europe/Paris:20180317T210000
DTSTAMP:20260422T200353Z
DTSTART;TZID=Europe/Paris:20180126T210000
LOCATION:Teatro Avanti
SEQUENCE:0
SUMMARY:MUESTRA DE TEATRO AFICIONADO - DEL 26 DE ENERO AL 17 DE MARZO (Vent
 a de entradas exclusivamente en taquilla.Precio 3€)
UID:e673f954-c9e4-419a-bdc6-a05aa1964690
END:VEVENT
END:VCALENDAR
