BEGIN:VCALENDAR
PRODID:Nexudus
VERSION:2.0
BEGIN:VTIMEZONE
TZID:Europe/Paris
X-LIC-LOCATION:Europe/Paris
BEGIN:STANDARD
DTSTART:20241027T030000
RRULE:FREQ=YEARLY;BYDAY=-1SU;BYMONTH=10
TZNAME:CET
TZOFFSETFROM:+0200
TZOFFSETTO:+0100
END:STANDARD
BEGIN:DAYLIGHT
DTSTART:20250330T020000
RRULE:FREQ=YEARLY;BYDAY=-1SU;BYMONTH=3
TZNAME:CEST
TZOFFSETFROM:+0100
TZOFFSETTO:+0200
END:DAYLIGHT
END:VTIMEZONE
BEGIN:VEVENT
DESCRIPTION:\n- MUESTRA DE CANTO - VIERNES 22 JUNIO (20:30 HORAS) (Entrada 
 libre hasta completar aforo).\n\nEvent link: https://teatroavanti.spaces.n
 exudus.com/en/events/view/611624178/muestra-de-las-escuela-de-teatro-avant
 i\n
DTEND;TZID=Europe/Paris:20180622T220000
DTSTAMP:20260422T182610Z
DTSTART;TZID=Europe/Paris:20180518T180000
LOCATION:Teatro Avanti
SEQUENCE:0
SUMMARY:MUESTRA DE LAS ESCUELA DE TEATRO AVANTI
UID:d1d9654d-e0a5-44e2-b279-489694b81428
END:VEVENT
END:VCALENDAR
