BEGIN:VCALENDAR
PRODID:Nexudus
VERSION:2.0
BEGIN:VTIMEZONE
TZID:Europe/Paris
X-LIC-LOCATION:Europe/Paris
BEGIN:STANDARD
DTSTART:20241027T030000
RRULE:FREQ=YEARLY;BYDAY=-1SU;BYMONTH=10
TZNAME:CET
TZOFFSETFROM:+0200
TZOFFSETTO:+0100
END:STANDARD
BEGIN:DAYLIGHT
DTSTART:20250330T020000
RRULE:FREQ=YEARLY;BYDAY=-1SU;BYMONTH=3
TZNAME:CEST
TZOFFSETFROM:+0100
TZOFFSETTO:+0200
END:DAYLIGHT
END:VTIMEZONE
BEGIN:VEVENT
DESCRIPTION:Disfruta del los trabajos que los alumnos/as de nuestras Escuel
 as de Teatro\, Música\, Danza y Magia os ha preparado.\nDel 20 de Mayo al
  25 de Junio en TEATRO AVANTI. (Entrada Libre hasta completar aforo)\nEven
 t link: https://teatroavanti.spaces.nexudus.com/en/events/view/383454087/m
 uestra-de-la-escuela-de-teatro--avanti---grupo-shakespeare-adolescentes-mi
 ércoles---20-mayo---sábado-12-00-horas--entrada-libre-hasta-completar-af
 oro-\n
DTEND;TZID=Europe/Paris:20170520T130000
DTSTAMP:20260423T002500Z
DTSTART;TZID=Europe/Paris:20170520T120000
LOCATION:Teatro Avanti
SEQUENCE:0
SUMMARY:MUESTRA DE LA ESCUELA DE TEATRO  AVANTI - GRUPO SHAKESPEARE ADOLESC
 ENTES MIÉRCOLES - 20 MAYO - SÁBADO 12.00 HORAS (Entrada Libre hasta comp
 letar aforo)
UID:69ba2ebd-6730-4ce0-b915-973318f71e92
END:VEVENT
END:VCALENDAR
