BEGIN:VCALENDAR
PRODID:Nexudus
VERSION:2.0
BEGIN:VTIMEZONE
TZID:Europe/Paris
X-LIC-LOCATION:Europe/Paris
BEGIN:STANDARD
DTSTART:20241027T030000
RRULE:FREQ=YEARLY;BYDAY=-1SU;BYMONTH=10
TZNAME:CET
TZOFFSETFROM:+0200
TZOFFSETTO:+0100
END:STANDARD
BEGIN:DAYLIGHT
DTSTART:20250330T020000
RRULE:FREQ=YEARLY;BYDAY=-1SU;BYMONTH=3
TZNAME:CEST
TZOFFSETFROM:+0100
TZOFFSETTO:+0200
END:DAYLIGHT
END:VTIMEZONE
BEGIN:VEVENT
DESCRIPTION:Disfruta del los trabajos que los alumnos/as de nuestras Escuel
 as de Teatro\, Música\, Danza y Magia os ha preparado.\nDel 20 de Mayo al
  25 de Junio en TEATRO AVANTI. (Entrada Libre hasta completar aforo)\nEven
 t link: https://teatroavanti.spaces.nexudus.com/en/events/view/388030647/m
 uestra-de-escuela-de-teatro-avanti---equipo-dickens--7-a-9-años---12-juni
 o--lunes-18-00-horas----entrada-libre-hasta-completar-aforo-\n
DTEND;TZID=Europe/Paris:20170612T190000
DTSTAMP:20260422T225847Z
DTSTART;TZID=Europe/Paris:20170612T180000
LOCATION:Teatro Avanti
SEQUENCE:0
SUMMARY:MUESTRA DE ESCUELA DE TEATRO AVANTI - EQUIPO DICKENS  7 A 9 AÑOS -
  12 JUNIO- LUNES 18:00 HORAS - (Entrada Libre hasta completar aforo)
UID:eacb2071-bbd3-413e-bf6e-2b2621dc8c38
END:VEVENT
END:VCALENDAR
