BEGIN:VCALENDAR
PRODID:Nexudus
VERSION:2.0
BEGIN:VTIMEZONE
TZID:Europe/Paris
X-LIC-LOCATION:Europe/Paris
BEGIN:STANDARD
DTSTART:20241027T030000
RRULE:FREQ=YEARLY;BYDAY=-1SU;BYMONTH=10
TZNAME:CET
TZOFFSETFROM:+0200
TZOFFSETTO:+0100
END:STANDARD
BEGIN:DAYLIGHT
DTSTART:20250330T020000
RRULE:FREQ=YEARLY;BYDAY=-1SU;BYMONTH=3
TZNAME:CEST
TZOFFSETFROM:+0100
TZOFFSETTO:+0200
END:DAYLIGHT
END:VTIMEZONE
BEGIN:VEVENT
DESCRIPTION:\nEvent link: https://teatroavanti.spaces.nexudus.com/en/events
 /view/1414923864/muestra-de-danza-grupo-1---domingo-13-junio--12-00-h--ent
 rada-libre-hasta-completar-aforo-\n
DTEND;TZID=Europe/Paris:20210613T130000
DTSTAMP:20260421T234739Z
DTSTART;TZID=Europe/Paris:20210613T120000
LOCATION:Teatro Avanti
SEQUENCE:0
SUMMARY:MUESTRA DE DANZA Grupo 1 - Domingo 13 Junio (12:00 h) Entrada libre
  hasta completar aforo.
UID:12a31e33-a151-463e-b8f6-1f2d65e824b6
END:VEVENT
END:VCALENDAR
