BEGIN:VCALENDAR
PRODID:Nexudus
VERSION:2.0
BEGIN:VTIMEZONE
TZID:Europe/Paris
X-LIC-LOCATION:Europe/Paris
BEGIN:STANDARD
DTSTART:20241027T030000
RRULE:FREQ=YEARLY;BYDAY=-1SU;BYMONTH=10
TZNAME:CET
TZOFFSETFROM:+0200
TZOFFSETTO:+0100
END:STANDARD
BEGIN:DAYLIGHT
DTSTART:20250330T020000
RRULE:FREQ=YEARLY;BYDAY=-1SU;BYMONTH=3
TZNAME:CEST
TZOFFSETFROM:+0100
TZOFFSETTO:+0200
END:DAYLIGHT
END:VTIMEZONE
BEGIN:VEVENT
DESCRIPTION:Disfruta del los trabajos que los alumnos/as de nuestras Escuel
 as de Teatro\, Música\, Danza y Magia os ha preparado.\nDel 20 de Mayo al
  25 de Junio en TEATRO AVANTI. (Entrada Libre hasta completar aforo)\nEven
 t link: https://teatroavanti.spaces.nexudus.com/en/events/view/388030654/m
 uestra-danza---18-junio--domingo---1er-grupo-12-horas---2º-grupo-19-horas
 --entrada-libre-hasta-completar-aforo-\n
DTEND;TZID=Europe/Paris:20170618T190000
DTSTAMP:20260422T225847Z
DTSTART;TZID=Europe/Paris:20170618T190000
LOCATION:Teatro Avanti
SEQUENCE:0
SUMMARY:MUESTRA DANZA - 18 JUNIO- DOMINGO - 1ER GRUPO:12 HORAS - 2º GRUPO:
 19 HORAS (Entrada Libre hasta completar aforo)
UID:c3b26e6d-b0ea-4e12-b941-ab0d95ff3851
END:VEVENT
END:VCALENDAR
