BEGIN:VCALENDAR
PRODID:Nexudus
VERSION:2.0
BEGIN:VTIMEZONE
TZID:Europe/Paris
X-LIC-LOCATION:Europe/Paris
BEGIN:STANDARD
DTSTART:20241027T030000
RRULE:FREQ=YEARLY;BYDAY=-1SU;BYMONTH=10
TZNAME:CET
TZOFFSETFROM:+0200
TZOFFSETTO:+0100
END:STANDARD
BEGIN:DAYLIGHT
DTSTART:20250330T020000
RRULE:FREQ=YEARLY;BYDAY=-1SU;BYMONTH=3
TZNAME:CEST
TZOFFSETFROM:+0100
TZOFFSETTO:+0200
END:DAYLIGHT
END:VTIMEZONE
BEGIN:VEVENT
DESCRIPTION:XIII Festival de Circo de Córdoba. Paulatinamente se va desarr
 ollando la\nhistoria de cómo se puede afrontar un reto. El viaje de este 
 caballero está\nplagado de esperanzas y desesperanzas. De éxitos y fraca
 sos. ¿Qué he de\nhacer si no puedo? Quizá esta pequeña obra nos anime\
 , de una forma\namena\, a liberarnos de barreras que nos impidan conocerno
 s\, amarnos y\nser capaces de dar un nuevo paso hacia el comienzo\, y así
 \, volver a afrontar\nel reto. Cualquiera que fuese… Una gran fragancia 
 para un Espectáculo\nMínimo.\nEntrada en taquilla: Infantil 6 € -  Adu
 ltos: 7 €\nEvent link: https://teatroavanti.spaces.nexudus.com/en/events
 /view/749720081/minimo---cía--varuma-teatro---domingo-2-diciembre--12-00-
 horas-\n
DTEND;TZID=Europe/Paris:20181202T130000
DTSTAMP:20260422T150828Z
DTSTART;TZID=Europe/Paris:20181202T120000
LOCATION:Teatro Avanti
SEQUENCE:0
SUMMARY:MINIMO - Cía: Varuma Teatro - Domingo 2 Diciembre (12:00 horas)
UID:6e9ebce7-4280-416a-9f48-ef1cba8becce
END:VEVENT
END:VCALENDAR
