BEGIN:VCALENDAR
PRODID:Nexudus
VERSION:2.0
BEGIN:VTIMEZONE
TZID:Europe/Paris
X-LIC-LOCATION:Europe/Paris
BEGIN:STANDARD
DTSTART:20241027T030000
RRULE:FREQ=YEARLY;BYDAY=-1SU;BYMONTH=10
TZNAME:CET
TZOFFSETFROM:+0200
TZOFFSETTO:+0100
END:STANDARD
BEGIN:DAYLIGHT
DTSTART:20250330T020000
RRULE:FREQ=YEARLY;BYDAY=-1SU;BYMONTH=3
TZNAME:CEST
TZOFFSETFROM:+0100
TZOFFSETTO:+0200
END:DAYLIGHT
END:VTIMEZONE
BEGIN:VEVENT
DESCRIPTION:Joven emprendedor de 22 años. Periodista\, humorista y empresa
 rio\, el andaluz lleva cinco años haciendo humor por el ámbito regional 
 y nacional. Ha dirigido\, guionizado y presentado varios proyectos televis
 ivos en Andalucía\, además de presentar y dirigir formatos de humor en e
 l ámbito radiofónico. \nEvent link: https://teatroavanti.spaces.nexudus.
 com/en/events/view/1371768405/mi-gran-noche-de-humor--con-jose-luis-calero
 ---viernes-2-de-octubre--21-00-h--público-adulto\n
DTEND;TZID=Europe/Paris:20201002T220000
DTSTAMP:20260422T073248Z
DTSTART;TZID=Europe/Paris:20201002T210000
LOCATION:Teatro Avanti
SEQUENCE:0
SUMMARY:MI GRAN NOCHE DE HUMOR  con Jose Luis Calero - Viernes 2 de Octubre
  (21:00 h) Público adulto
UID:8f26bdba-f729-4344-aec1-b7ade6ad3b45
END:VEVENT
END:VCALENDAR
