BEGIN:VCALENDAR
PRODID:Nexudus
VERSION:2.0
BEGIN:VTIMEZONE
TZID:Europe/Paris
X-LIC-LOCATION:Europe/Paris
BEGIN:STANDARD
DTSTART:20241027T030000
RRULE:FREQ=YEARLY;BYDAY=-1SU;BYMONTH=10
TZNAME:CET
TZOFFSETFROM:+0200
TZOFFSETTO:+0100
END:STANDARD
BEGIN:DAYLIGHT
DTSTART:20250330T020000
RRULE:FREQ=YEARLY;BYDAY=-1SU;BYMONTH=3
TZNAME:CEST
TZOFFSETFROM:+0100
TZOFFSETTO:+0200
END:DAYLIGHT
END:VTIMEZONE
BEGIN:VEVENT
DESCRIPTION:El complemento Meet & Greet te dará la oportunidad de entrar a
  la prueba de sonido una hora antes del concierto\, charlar con Fran Perea
  en un ambiente tranquilo y distendido y hacerte una foto con el artista. 
  \nEste encuentro tendrá una duración aproximada de 60 minutos.\n       
                                                                           
                  \nEl complemento Meet & Greet está reservado únicamente
  para los espectadores que hayan adquirido previamente la entrada para el 
 concierto\, debiendo PRESENTAR esta al acceder a la sala.\n\nEvent link: h
 ttps://teatroavanti.spaces.nexudus.com/en/events/view/1414870317/meet-and-
 greet-con-fran-perea---15-mayo--18-30-h---público-adulto-\n
DTEND;TZID=Europe/Paris:20210515T193000
DTSTAMP:20260422T011234Z
DTSTART;TZID=Europe/Paris:20210515T183000
LOCATION:Teatro Avanti
SEQUENCE:0
SUMMARY:Meet and Greet con Fran Perea - 15 Mayo (18:30 h). Público Adulto.
UID:cca633e9-12fb-4819-99f7-76232daebc02
END:VEVENT
END:VCALENDAR
