BEGIN:VCALENDAR
PRODID:Nexudus
VERSION:2.0
BEGIN:VTIMEZONE
TZID:Europe/Paris
X-LIC-LOCATION:Europe/Paris
BEGIN:STANDARD
DTSTART:20241027T030000
RRULE:FREQ=YEARLY;BYDAY=-1SU;BYMONTH=10
TZNAME:CET
TZOFFSETFROM:+0200
TZOFFSETTO:+0100
END:STANDARD
BEGIN:DAYLIGHT
DTSTART:20250330T020000
RRULE:FREQ=YEARLY;BYDAY=-1SU;BYMONTH=3
TZNAME:CEST
TZOFFSETFROM:+0100
TZOFFSETTO:+0200
END:DAYLIGHT
END:VTIMEZONE
BEGIN:VEVENT
DESCRIPTION:Tras más de 20 años de experiencia teatral en los que ha cola
 borado con algunas de las más importantes compañías malagueñas\, Migue
 l Ángel se vuelve viral durante el confinamiento a través de su “Diari
 o de un Confinamiento” en el que\, desde su cocina\, en pijama y con su 
 taza de café\, reflexionaba sobre temas cotidianos con mucho humor y un t
 oque de ironía.\nTras el confinamiento continúa con sus vídeos en sus r
 edes\, donde ha multiplicado sus seguidores\, compartiendo sus particulare
 s reflexiones sobre la nueva normalidad con millas de seguidores en todo e
 l mundo.\n\nEvent link: https://teatroavanti.spaces.nexudus.com/en/events/
 view/1415021518/mas-tranquilo---miguel-ángel-martín---sábado-7-mayo--21
 -00-h--público-adulto\n
DTEND;TZID=Europe/Paris:20220507T220000
DTSTAMP:20260421T171547Z
DTSTART;TZID=Europe/Paris:20220507T210000
LOCATION:Teatro Avanti
SEQUENCE:0
SUMMARY:MAS TRANQUILO - Miguel Ángel Martín - Sábado 7 Mayo (21:00 h) P
 úblico Adulto
UID:3f9997eb-6a18-40cb-a015-b5a879da3b82
END:VEVENT
END:VCALENDAR
