BEGIN:VCALENDAR
PRODID:Nexudus
VERSION:2.0
BEGIN:VTIMEZONE
TZID:Europe/Paris
X-LIC-LOCATION:Europe/Paris
BEGIN:STANDARD
DTSTART:20241027T030000
RRULE:FREQ=YEARLY;BYDAY=-1SU;BYMONTH=10
TZNAME:CET
TZOFFSETFROM:+0200
TZOFFSETTO:+0100
END:STANDARD
BEGIN:DAYLIGHT
DTSTART:20250330T020000
RRULE:FREQ=YEARLY;BYDAY=-1SU;BYMONTH=3
TZNAME:CEST
TZOFFSETFROM:+0100
TZOFFSETTO:+0200
END:DAYLIGHT
END:VTIMEZONE
BEGIN:VEVENT
DESCRIPTION:Espectáculo tematizado\, visual acompañado por una banda sono
 ra de película\, un\nviaje al fantástico mundo de los piratas.\nEvent li
 nk: https://teatroavanti.spaces.nexudus.com/en/events/view/469506040/mago-
 cobra---pirata--dómingo-12-noviembre--12-00-y-18-00-horas--público-famil
 iar\n
DTEND;TZID=Europe/Paris:20171112T140000
DTSTAMP:20260422T213939Z
DTSTART;TZID=Europe/Paris:20171112T090000
LOCATION:Teatro Avanti
SEQUENCE:0
SUMMARY:MAGO COBRA - PIRATA. DÓMINGO 12 NOVIEMBRE (12:00 Y 18:00 horas) P
 úblico Familiar
UID:f32b9239-cd4f-456c-8e93-aeed7504100a
END:VEVENT
END:VCALENDAR
