BEGIN:VCALENDAR
PRODID:Nexudus
VERSION:2.0
BEGIN:VTIMEZONE
TZID:Europe/Paris
X-LIC-LOCATION:Europe/Paris
BEGIN:STANDARD
DTSTART:20241027T030000
RRULE:FREQ=YEARLY;BYDAY=-1SU;BYMONTH=10
TZNAME:CET
TZOFFSETFROM:+0200
TZOFFSETTO:+0100
END:STANDARD
BEGIN:DAYLIGHT
DTSTART:20250330T020000
RRULE:FREQ=YEARLY;BYDAY=-1SU;BYMONTH=3
TZNAME:CEST
TZOFFSETFROM:+0100
TZOFFSETTO:+0200
END:DAYLIGHT
END:VTIMEZONE
BEGIN:VEVENT
DESCRIPTION:Espectáculo de magia visual con grandes ilusiones\, muy potent
 e y dinámico\, un no parar de experiencias y emociones donde el espectado
 r disfrutara de cada segundo del espectáculo\, realizado por Nano Tena (t
 ercera generación de magos en la familia después de su abuelo y padre Ma
 gic Tissa) y su ayudante Tatiana \, Si buscas una explosión en el escenar
 io este es tu show!!\nEvent link: https://teatroavanti.spaces.nexudus.com/
 en/events/view/1415104078/magic-show---nano-tena---viernes-4-noviembre--21
 -00-h--todos-los-públicos\n
DTEND;TZID=Europe/Paris:20221104T220000
DTSTAMP:20260421T140143Z
DTSTART;TZID=Europe/Paris:20221104T210000
LOCATION:Teatro Avanti
SEQUENCE:0
SUMMARY:MAGIC SHOW - Nano Tena - Viernes 4 Noviembre (21:00 h) Todos los p
 úblicos
UID:3eee62dc-e60e-42ec-abc3-ded6dbcded9d
END:VEVENT
END:VCALENDAR
