BEGIN:VCALENDAR
PRODID:Nexudus
VERSION:2.0
BEGIN:VTIMEZONE
TZID:Europe/Paris
X-LIC-LOCATION:Europe/Paris
BEGIN:STANDARD
DTSTART:20241027T030000
RRULE:FREQ=YEARLY;BYDAY=-1SU;BYMONTH=10
TZNAME:CET
TZOFFSETFROM:+0200
TZOFFSETTO:+0100
END:STANDARD
BEGIN:DAYLIGHT
DTSTART:20250330T020000
RRULE:FREQ=YEARLY;BYDAY=-1SU;BYMONTH=3
TZNAME:CEST
TZOFFSETFROM:+0100
TZOFFSETTO:+0200
END:DAYLIGHT
END:VTIMEZONE
BEGIN:VEVENT
DESCRIPTION:EL ÚNICO TRIBUTO AUTORIZADO DE SOY LUNA EN GIRA POR ESPAÑA\, 
  el único que ha estado 4 meses en la Gran Vía de Madrid\, el único que
  está realizando gira por más de 25 ciudades... Con Voces en directo ext
 raordinarias\, coreografías espectaculares\, número de patinaje y mucho 
 más.\n\nEvent link: https://teatroavanti.spaces.nexudus.com/en/events/vie
 w/540231808/luna-sobre-ruedas--tributo-oficial-a-soy-luna---domingo-18-feb
 rero---nueva-funcion-a-las-12-00-horas----localidades-agotadas-para-la-fun
 cion-de-las-18-00-\n
DTEND;TZID=Europe/Paris:20180218T200000
DTSTAMP:20260422T183011Z
DTSTART;TZID=Europe/Paris:20180218T180000
LOCATION:Teatro Avanti
SEQUENCE:0
SUMMARY:LUNA SOBRE RUEDAS (Tributo Oficial a Soy Luna). Domingo 18 Febrero.
  (NUEVA FUNCION A LAS 12:00 Horas )  LOCALIDADES AGOTADAS PARA LA FUNCION 
 DE LAS 18:00)
UID:8dda7cb8-36f4-40f1-a3e4-4afedbdc212e
END:VEVENT
END:VCALENDAR
