BEGIN:VCALENDAR
PRODID:Nexudus
VERSION:2.0
BEGIN:VTIMEZONE
TZID:Europe/Paris
X-LIC-LOCATION:Europe/Paris
BEGIN:STANDARD
DTSTART:20241027T030000
RRULE:FREQ=YEARLY;BYDAY=-1SU;BYMONTH=10
TZNAME:CET
TZOFFSETFROM:+0200
TZOFFSETTO:+0100
END:STANDARD
BEGIN:DAYLIGHT
DTSTART:20250330T020000
RRULE:FREQ=YEARLY;BYDAY=-1SU;BYMONTH=3
TZNAME:CEST
TZOFFSETFROM:+0100
TZOFFSETTO:+0200
END:DAYLIGHT
END:VTIMEZONE
BEGIN:VEVENT
DESCRIPTION:Robin y Alanís\, con una dilatada trayectoria en el campo de l
 a magia y el mundo del espectáculo\, nos traen este sorprendente y divert
 ido show de ilusionismo repleto de efectos imposibles\, humor y participac
 ión del público.\n\nPrecio entrada venta anticipada en taquilla 8 € - 
 El mismo día del espectáculo 10 €.\nEvent link: https://teatroavanti.s
 paces.nexudus.com/en/events/view/1163372210/los-wonder-magicos---viernes-8
 -noviembre--21-00-h--todos-los-públicos-\n
DTEND;TZID=Europe/Paris:20191108T220000
DTSTAMP:20260422T102034Z
DTSTART;TZID=Europe/Paris:20191108T210000
LOCATION:Teatro Avanti
SEQUENCE:0
SUMMARY:LOS WONDER MAGICOS - Viernes 8 Noviembre (21:00 h) Todos los públi
 cos.
UID:3b098acb-d7ca-49ea-9c2b-1bfbe11572e5
END:VEVENT
END:VCALENDAR
