BEGIN:VCALENDAR
PRODID:Nexudus
VERSION:2.0
BEGIN:VTIMEZONE
TZID:Europe/Paris
X-LIC-LOCATION:Europe/Paris
BEGIN:STANDARD
DTSTART:20241027T030000
RRULE:FREQ=YEARLY;BYDAY=-1SU;BYMONTH=10
TZNAME:CET
TZOFFSETFROM:+0200
TZOFFSETTO:+0100
END:STANDARD
BEGIN:DAYLIGHT
DTSTART:20250330T020000
RRULE:FREQ=YEARLY;BYDAY=-1SU;BYMONTH=3
TZNAME:CEST
TZOFFSETFROM:+0100
TZOFFSETTO:+0200
END:DAYLIGHT
END:VTIMEZONE
BEGIN:VEVENT
DESCRIPTION:ATENCIÓN.SESION  18.00 HORAS AGOTADAS LOCALIDADES.\nEvent link
 : https://teatroavanti.spaces.nexudus.com/en/events/view/237670436/los-tre
 s-cerditos--16-oct---12-00-y-18-00-horas-\n
DTEND;TZID=Europe/Paris:20161016T180000
DTSTAMP:20260423T060804Z
DTSTART;TZID=Europe/Paris:20161016T120000
LOCATION:Teatro Avanti
SEQUENCE:0
SUMMARY:Los tres Cerditos (16 Oct.- 12:00 y 18:00 horas)
UID:1920f841-d094-4f28-8c68-cdad26fd08a6
END:VEVENT
END:VCALENDAR
